BEGIN:VCALENDAR
VERSION:2.0
PRODID:-//Parks &amp; Leisure Australia - ECPv6.15.20//NONSGML v1.0//EN
CALSCALE:GREGORIAN
METHOD:PUBLISH
X-WR-CALNAME:Parks &amp; Leisure Australia
X-ORIGINAL-URL:https://parksleisure.com.au
X-WR-CALDESC:Events for Parks &amp; Leisure Australia
REFRESH-INTERVAL;VALUE=DURATION:PT1H
X-Robots-Tag:noindex
X-PUBLISHED-TTL:PT1H
BEGIN:VTIMEZONE
TZID:Australia/Perth
BEGIN:STANDARD
TZOFFSETFROM:+0800
TZOFFSETTO:+0800
TZNAME:AWST
DTSTART:20250101T000000
END:STANDARD
END:VTIMEZONE
BEGIN:VEVENT
DTSTART;TZID=Australia/Perth:20260611T090000
DTEND;TZID=Australia/Perth:20260611T203000
DTSTAMP:20260425T061247
CREATED:20260414T053230Z
LAST-MODIFIED:20260422T030613Z
UID:63744-1781168400-1781209800@parksleisure.com.au
SUMMARY:2026 PLAWA Region Symposium + Awards of Excellence
DESCRIPTION:Home 								\n				\n				\n				\n									Program + Speakers 								\n				\n				\n				\n									Sponsors + Exhibitors 								\n				\n				\n				\n									Awards of Excellence 								\n				\n				\n				\n									Venue + Accommodation 								\n				\n				\n					\n				\n		\n				\n				\n									2026 Parks and Leisure Australia WA Region Symposium + Awards of Excellence Get Ready for a day to of inspiration and celebration as we reconnect and collaborate at the 2026 PLA WA Region Symposium and Awards of Excellence. This year we will explore innovative ideas\, share best practices\, and celebrate excellence across Western Australia. Whether you’re a planner\, a designer\, or manager this day will provide an opportunity to learn from peers\, challenge you thinking and enjoy collaborating with like minded passionate people. Date: Thursday\, 11 June\, 2026 Time: Symposium 9am – 4pm Awards of Excellence\, with Pre- Awards Drinks 4pm- 8:30pm Venue: Novotel Perth Langley\, 221 Adelaide Terrace Perth\, Western Australia Can’t make up your mind on who should attend\, bringing a group? or Got to travel to get to Perth? Contact plawa@parksleisure.com.au to discuss a discount.  								\n				\n				\n				\n									Not a PLA Member Yet? Our members are the “People Behind the Places\,” working across policy\, planning\, and the delivery of assets\, services\, facilities\, programs\, and research in the parks and leisure sector. As a member\, you can also save money by accessing discounted registration rates for the PLA WA Region Symposium 2026. Find out how to join and start enjoying PLA member benefits today! Become a Member – Parks & Leisure Australia 								\n				\n				\n				\n									REGISTRATION: Symposium Only (9am – 4pm)  Member: $500 Non-Member: $600 Welcome Coffee\, Morning Tea and Lunch Access to all presentation sessions Access to Trade Exhibitors Awards of Excellence Only (4pm – 8:30pm) Member: $200 Non-Member: $250 Pre Award Drinks and Canapes Access to Awards Ceremony Access to the Trade Exhibitors   Combined Full Day Member: $600 Non-Member: $750 Symposium Only Awards of Excellence Only   Group Discount (15%) Contact EO about Discount Available for 5 or more registrations from the same company Registrations must be made at the same time Does not apply to mixed member/ member groups Distance  Discount (15%) Contact EO about Discount Available if you have to travel more than 400km from your permanent residence to join us Does not apply to group bookings   *Conference fees are in Australian Dollars and inclusive of 10% Goods and Services Tax (GST)
URL:https://parksleisure.com.au/event/2026-plawa-region-symposium-awards-of-excellence/
LOCATION:Novotel Perth Langley\, 221 Adelaide Terrace\, Perth\, WA\, 6000\, Australia
CATEGORIES:Conference,WA
ATTACH;FMTTYPE=image/png:https://parksleisure.com.au/wp-content/uploads/2026/04/WA-2026-conference-background.png
END:VEVENT
END:VCALENDAR