BEGIN:VCALENDAR
VERSION:2.0
PRODID:-//Parks &amp; Leisure Australia - ECPv6.15.20//NONSGML v1.0//EN
CALSCALE:GREGORIAN
METHOD:PUBLISH
X-WR-CALNAME:Parks &amp; Leisure Australia
X-ORIGINAL-URL:https://parksleisure.com.au
X-WR-CALDESC:Events for Parks &amp; Leisure Australia
REFRESH-INTERVAL;VALUE=DURATION:PT1H
X-Robots-Tag:noindex
X-PUBLISHED-TTL:PT1H
BEGIN:VTIMEZONE
TZID:Australia/Perth
BEGIN:STANDARD
TZOFFSETFROM:+0800
TZOFFSETTO:+0800
TZNAME:AWST
DTSTART:20250101T000000
END:STANDARD
END:VTIMEZONE
BEGIN:VEVENT
DTSTART;TZID=Australia/Perth:20260423T083000
DTEND;TZID=Australia/Perth:20260423T163000
DTSTAMP:20260422T003543
CREATED:20260217T014521Z
LAST-MODIFIED:20260312T225429Z
UID:61300-1776933000-1776961800@parksleisure.com.au
SUMMARY:Central Playspace Technical Tour - WA Region
DESCRIPTION:Please join us for our next Playspace Technical Tour on Thursday\, 23 April\, with the bus leaving from Bob Gordon Reserve in Bull Creek at 9am. This guided tour will showcase a series of outstanding play spaces across the local government areas of City of Canning and the City of Gosnells. The locations for the guided tour are listed below: Shelley Beach – City of Canning (picture below) 2. Maniana Park – City of Canning 3. Mary Carroll – City of Gosnells (picture below)  4. Sutherlands Park – City of Gosnells At every location\, attendees will hear directly from the designer\, manufacturer\, or installer involved in delivering the project. These presentations will provide behind-the-scenes insight into the design intent\, material selection\, compliance considerations\, construction methodology\, and unique challenges encountered throughout the process.   This event provides a unique platform for professional learning\, networking\, and industry discussion in an informal\, on-site setting. Whether you are involved in planning\, designing\, delivering\, or maintaining public play spaces\, this tour will offer inspiration\, technical insight\, and valuable peer engagement.   MC’s:  Andrew Reedy – Director at Play Check (1) Andrew Reedy | LinkedIn Andrew Reedy is director of Play Check. The company specialises in providing advice and auditing services to all sectors of the playground industry in terms of playground design\, safety and risk management\, surface impact attenuation testing\, and training on the application of Standards in playground design and operation.  Nele Johnson – Principal Landscape Architect at the City of Canning (1) Nele Johnson | LinkedIn Passionate about providing great public open spaces for everyone\, regardless of gender\, age\, ability\, or cultural and socioeconomic background.Committed to creating sustainable\, long-term outcomes for both the people who use open spaces and those who manage them. Extensive local government and greenfield experience\, focussing on creating people-centred environments\, the importance of walkable neighbourhoods\, and the essential role of shade in creating liveable places\, that are not only functional today but also adaptable and resilient in the face of a changing climate and society. Currently leading a team dedicated to delivering capital projects and strategic planning in the most multicultural Local Government Area in WA.
URL:https://parksleisure.com.au/event/central-playspace-technical-tour-wa-region/
LOCATION:Bob Gordon Reserve\, 10 Benningfield Road\, Bull Creek\, WA\, 6149\, Australia
CATEGORIES:WA
ATTACH;FMTTYPE=image/png:https://parksleisure.com.au/wp-content/uploads/2026/02/Bob-Gordon-playspace-UFO.png
END:VEVENT
END:VCALENDAR