BEGIN:VCALENDAR
VERSION:2.0
PRODID:-//Parks &amp; Leisure Australia - ECPv6.15.20//NONSGML v1.0//EN
CALSCALE:GREGORIAN
METHOD:PUBLISH
X-WR-CALNAME:Parks &amp; Leisure Australia
X-ORIGINAL-URL:https://parksleisure.com.au
X-WR-CALDESC:Events for Parks &amp; Leisure Australia
REFRESH-INTERVAL;VALUE=DURATION:PT1H
X-Robots-Tag:noindex
X-PUBLISHED-TTL:PT1H
BEGIN:VTIMEZONE
TZID:Australia/Adelaide
BEGIN:STANDARD
TZOFFSETFROM:+1030
TZOFFSETTO:+0930
TZNAME:ACST
DTSTART:20250405T163000
END:STANDARD
BEGIN:DAYLIGHT
TZOFFSETFROM:+0930
TZOFFSETTO:+1030
TZNAME:ACDT
DTSTART:20251004T163000
END:DAYLIGHT
BEGIN:STANDARD
TZOFFSETFROM:+1030
TZOFFSETTO:+0930
TZNAME:ACST
DTSTART:20260404T163000
END:STANDARD
BEGIN:DAYLIGHT
TZOFFSETFROM:+0930
TZOFFSETTO:+1030
TZNAME:ACDT
DTSTART:20261003T163000
END:DAYLIGHT
BEGIN:STANDARD
TZOFFSETFROM:+1030
TZOFFSETTO:+0930
TZNAME:ACST
DTSTART:20270403T163000
END:STANDARD
BEGIN:DAYLIGHT
TZOFFSETFROM:+0930
TZOFFSETTO:+1030
TZNAME:ACDT
DTSTART:20271002T163000
END:DAYLIGHT
END:VTIMEZONE
BEGIN:VEVENT
DTSTART;TZID=Australia/Adelaide:20260603T180000
DTEND;TZID=Australia/Adelaide:20260603T203000
DTSTAMP:20260425T062153
CREATED:20260412T041312Z
LAST-MODIFIED:20260416T025431Z
UID:63674-1780509600-1780518600@parksleisure.com.au
SUMMARY:PLA SA/NT 2026 Awards of Excellence
DESCRIPTION: Parks and Leisure Australia SA/NT Announces 2026 Annual Region Awards of Excellence Evening Celebration Parks and Leisure Australia SA/NT  is excited to announce that their prestigious Annual Region Awards of Excellence Dinner will take place on Wednesday\, 3 June 2026\, at The Mosaic Hotel\, West Lakes.  Arrivals\, canapes and networking from 6pm. Presentation and awards from 6.30pm.  The Awards of Excellence Dinner is the highlight of the regional calendar\, celebrating outstanding achievements and innovation across parks\, leisure\, and recreation sectors. This elegant evening brings together industry professionals\, local councils\, and community leaders to honour excellence and inspire future advancements in the field. 💃 Dress Code: Smart casual 								\n				\n				\n				\n									Proudly brought to you by GLG Greenlife Group  GreenLife Group is a national leader in property services and open space management. GLG delivers a wide range of integrated commercial landscape\, horticultural and environmental services that include property and ground maintenance\, sports turf\, arboriculture\, and development of sustainable solutions. With more than 30 years of industry experience\, GLG is a dedicated open space specialist. 								\n				\n				\n				\n																														\n				\n				\n				\n									ABOUT THE AWARDSEach year\, PLA acknowledges excellence in our industry through its prestigious Awards of Excellence. These annual awards recognise and celebrate the outstanding initiatives and innovative efforts of ‘The People Behind the Places\,’ which promote the wise use of leisure time for a multitude of social\, environmental\, and economic benefits to the community. It’s a celebration of those who contribute to creating vibrant\, healthy\, and inclusive spaces for all. As a regional award winner\, you become a National finalist and are invited to attend the National Awards of Excellence gala dinner. Please visit the dedicated Awards of Excellence webpage for further details. 								\n				\n				\n				\n					View the Nominees				\n				\n				\n				\n									 Submissions across all categories can be viewed here. 								\n				\n				\n				\n									Community Based Initiative of the YearEnvironment and Sustainability InitiativeStrategic PlanningCommunity Facility of the YearPark of the YearPlay space (over) $1mPlay space (under) $1mRegional Industry InitiativeResearch ImpactDavid Aldous Emerging Leader AwardInnovation in Parks\, Sport and Recreation
URL:https://parksleisure.com.au/event/pla-sa-nt-2026-region-conference-awards/
LOCATION:Mosaic Hotel\, West Lakes\, 37 Turner Dr\, West Lakes\, Adelaide\, 5021\, Australia
CATEGORIES:Conference,SA/NT
END:VEVENT
END:VCALENDAR