BEGIN:VCALENDAR
VERSION:2.0
PRODID:-//Parks &amp; Leisure Australia - ECPv6.15.20//NONSGML v1.0//EN
CALSCALE:GREGORIAN
METHOD:PUBLISH
X-WR-CALNAME:Parks &amp; Leisure Australia
X-ORIGINAL-URL:https://parksleisure.com.au
X-WR-CALDESC:Events for Parks &amp; Leisure Australia
REFRESH-INTERVAL;VALUE=DURATION:PT1H
X-Robots-Tag:noindex
X-PUBLISHED-TTL:PT1H
BEGIN:VTIMEZONE
TZID:Australia/Melbourne
BEGIN:STANDARD
TZOFFSETFROM:+1100
TZOFFSETTO:+1000
TZNAME:AEST
DTSTART:20250405T160000
END:STANDARD
BEGIN:DAYLIGHT
TZOFFSETFROM:+1000
TZOFFSETTO:+1100
TZNAME:AEDT
DTSTART:20251004T160000
END:DAYLIGHT
BEGIN:STANDARD
TZOFFSETFROM:+1100
TZOFFSETTO:+1000
TZNAME:AEST
DTSTART:20260404T160000
END:STANDARD
BEGIN:DAYLIGHT
TZOFFSETFROM:+1000
TZOFFSETTO:+1100
TZNAME:AEDT
DTSTART:20261003T160000
END:DAYLIGHT
BEGIN:STANDARD
TZOFFSETFROM:+1100
TZOFFSETTO:+1000
TZNAME:AEST
DTSTART:20270403T160000
END:STANDARD
BEGIN:DAYLIGHT
TZOFFSETFROM:+1000
TZOFFSETTO:+1100
TZNAME:AEDT
DTSTART:20271002T160000
END:DAYLIGHT
END:VTIMEZONE
BEGIN:VEVENT
DTSTART;TZID=Australia/Melbourne:20260320T083000
DTEND;TZID=Australia/Melbourne:20260320T150000
DTSTAMP:20260425T064015
CREATED:20260212T001653Z
LAST-MODIFIED:20260223T222548Z
UID:61128-1773995400-1774018800@parksleisure.com.au
SUMMARY:VIC/TAS Parks Management Forum - City of Casey
DESCRIPTION:Formerly known as the “Melbourne Park Managers Forum (MPMF)” – we are excited to announce the upcoming Parks Management Forum and Site Tour hosted by City of Casey. Come and join park managers\, senior management and aspiring managers from a range of Melbourne Metropolitan LGAs (and hopefully beyond) to explore public space sites across Casey and share resources and information relating to parks planning\, management and operations. The PMF is an INVITE ONLY event for existing PMF contacts. If you would like to be involved but have not received a direct invite\, please contact victas@parksleisure.com.au before registering to confirm eligibility. AGENDA 								\n				\n				\n				\n																														\n				\n				\n				\n																														\n				\n				\n				\n									About the Parks Management Forum After nine years\, we are rebranding the ‘Melbourne Parks Managers Forum’ to the Parks Management Forum. This change reflects our commitment to being a premier network not only for established Parks Managers but also for our region’s aspiring leaders. We look forward to providing expanded networking and development opportunities for the next generation of industry professionals across Victoria and Tasmania. The network aims to meet a minimum twice per year at events hosted by a council parks department to discuss issues and share ideas relating to parks planning\, management and operations. Membership excludes non-council staff\, such as representatives from industry suppliers and consultants. Whilst it does not have a formal set of rules or statement of purposes\, the MPMF was established for the following key reasons: – To provide park managers and aspiring managers with access to a network of like-minded people.– To share resources\, information and experiences relating to parks management.– To provide opportunities for professional development and learning. For more information contact the MPMF planning group:   								\n				\n		\n				\n				\n																														\n				\n				\n				\n									Emily Boucher Manager Open Space\, City of Kingston Emily.Boucher@kingston.vic.gov.au 								\n				\n				\n				\n																														\n				\n				\n				\n									Andrew Davidson Manager Park Assets\, City of Melbourne Andrew.Davidson@melbourne.vic.gov.au 								\n				\n				\n				\n																														\n				\n				\n				\n									Ashley Tenson Executive Officer\, Parks & BushlandYarra Ranges Council A.Tenson@yarraranges.vic.gov.au 								\n				\n				\n				\n																														\n				\n				\n				\n									Simon Finlay Manager\, Rec & Open SpaceMacedon Ranges Shire SFinlay@mrsc.vic.gov.au
URL:https://parksleisure.com.au/event/vic-tas-parks-management-forum-casey-council/
LOCATION:Premier Cricket Pavilion\, 160 Berwick-Cranbourne Rd\, Cranbourne East\, Melbourne\, Victoria\, 3977\, Australia
CATEGORIES:VIC/TAS
ATTACH;FMTTYPE=image/png:https://parksleisure.com.au/wp-content/uploads/2026/02/PMF-BIGGER.png
END:VEVENT
END:VCALENDAR